BEGIN:VCALENDAR
VERSION:2.0
PRODID:-//FORTe BILeTY - ECPv6.15.18//NONSGML v1.0//EN
CALSCALE:GREGORIAN
METHOD:PUBLISH
X-ORIGINAL-URL:http://bilety.palasz.pl
X-WR-CALDESC:Wydarzenia dla FORTe BILeTY
REFRESH-INTERVAL;VALUE=DURATION:PT1H
X-Robots-Tag:noindex
X-PUBLISHED-TTL:PT1H
BEGIN:VTIMEZONE
TZID:UTC
BEGIN:STANDARD
TZOFFSETFROM:+0000
TZOFFSETTO:+0000
TZNAME:UTC
DTSTART:20200101T000000
END:STANDARD
END:VTIMEZONE
BEGIN:VEVENT
DTSTART;TZID=UTC:20211204T180000
DTEND;TZID=UTC:20211204T193000
DTSTAMP:20260424T073907
CREATED:20200927T104438Z
LAST-MODIFIED:20230929T141636Z
UID:1532-1638640800-1638646200@bilety.palasz.pl
SUMMARY:Piotr Bałtroczyk    Stand-up: Starość nie jest dla mięczaków
DESCRIPTION:Koncert zewnętrzny: zapraszamy.\n \n  \nPiotr Bałtroczyk\nStand-up: Starość nie jest dla mięczaków\n\nBILETY:\nW sprzedaży posiadamy:\nrząd:  II\,   X.\nSerdecznie zapraszamy.\nRezerwacja i sprzedaż biletów: \nKrzysztof Piotr Pałasz – Fotograf\n \ntel. +48 602-524-964 \nInowrocław \nul. Królowej Jadwigi 2 \n  \n  \nBałtroczyk twierdzi\, że początek jest ważny\, być może nawet ważniejszy od końca. \nChoć dobrze\, gdy koniec jest równie miły jak początek. \nZatem ważne\, by dobrze zacząć. Bałtroczyk zaczyna niebanalnie od: ”Dobry wieczór Państwu\, nazywam się Piotr Bałtroczyk i jestem atrakcją\, \na Wy jesteście dla mnie atrakcją\, bez Was czułbym się jak w domu\, samotny i niepotrzebny”. \nTo właściwie jedyny powtarzalny fragment wieczoru\, w którym macie szansę uczestniczyć. \n  \nCo nastąpi po: „Dobry wieczór Państwu”\, jest również zagadką dla Bałtroczyka.\nInwigilowany przez nadobną dziennikarkę (a jest na nadobność wrażliwy) przyznał kiedyś\, \nże ma głowie jakieś 7 godzin monologu i nieustanną zagadką jest dla niego\, co wybierze z tajemnych szufladek umysłu Bałtroczyk Estradowy. \n„Są wciąż dla siebie zagadką\, Bałtroczyk Estradowy (BE) i Bałtroczyk Zwykły (BZ) \ni to być może\, utrzymuje jednego i drugiego w wysokiej dzielności bojowej\, mimo\, \nże każdy z nich z coraz większym przekonaniem może potwierdzić\, że starość nie jest dla mięczaków.” \n  \nZ BE – jak uprzejmy był się wyrazić Janusz Grzywacz – „słowa sypią się jak gó….o z barana”.\nBZ zazwyczaj milcząc okupuje przytulny kącik w rogu\, oddając się lekturze bądź nałogom\, lub usiłując bezskutecznie oddać się nadobnej dziennikarce\, by w końcu jednak wybrać nałóg\, lekturę\, czy gitarę. \nRządy zmieniają się\, rozpada się Unia\, a na tym tle Bałtroczyk jawi się jak oaza stabilności. \nPosłuchajcie proszę kolejnej wersji opowieści Piotra Bałtroczyka … . \n\n\nInformacje i zamówienia zbiorowe\, faktury : 602 524 964               509 414 666 .\nwysyłka indywidualna: 602 524 964\n  \nZapraszam. \nRezerwacja i sprzedaż biletów: \nKrzysztof Piotr Pałasz – fotograf\n \ntel. +48 602-524-964 \nInowrocław \nul. Królowej Jadwigi 2
URL:http://bilety.palasz.pl/event/piotr-baltroczyk-stand-up-starosc-nie-jest-dla-mieczakow/
LOCATION:Inowrocław Teatr Miejski\, Plac Klasztorny 2\, Inowrocław
ATTACH;FMTTYPE=image/jpeg:http://bilety.palasz.pl/wp-content/uploads/2020/09/Starosc-nie-jest-dla-Mieczakow_forte_Palasz_Krzysztof_Piotr_www.bilety.palasz.pl_.jpg
END:VEVENT
END:VCALENDAR